BEGIN:VCALENDAR
VERSION:2.0
PRODID:-//jEvents 2.0 for Joomla//EN
CALSCALE:GREGORIAN
METHOD:PUBLISH
BEGIN:VTIMEZONE
TZID:Europe/Berlin
BEGIN:STANDARD
DTSTART:20251026T020000
RDATE:20260329T030000
TZOFFSETFROM:+0200
TZOFFSETTO:+0100
TZNAME:Europe/Berlin CET
END:STANDARD
BEGIN:STANDARD
DTSTART:20261025T020000
RDATE:20270328T030000
TZOFFSETFROM:+0200
TZOFFSETTO:+0100
TZNAME:Europe/Berlin CET
END:STANDARD
BEGIN:STANDARD
DTSTART:20271031T020000
RDATE:20280326T030000
TZOFFSETFROM:+0200
TZOFFSETTO:+0100
TZNAME:Europe/Berlin CET
END:STANDARD
BEGIN:DAYLIGHT
DTSTART:20250402T170000
RDATE:20251026T020000
TZOFFSETFROM:+0100
TZOFFSETTO:+0200
TZNAME:Europe/Berlin CEST
END:DAYLIGHT
BEGIN:DAYLIGHT
DTSTART:20260329T030000
RDATE:20261025T020000
TZOFFSETFROM:+0100
TZOFFSETTO:+0200
TZNAME:Europe/Berlin CEST
END:DAYLIGHT
BEGIN:DAYLIGHT
DTSTART:20270328T030000
RDATE:20271031T020000
TZOFFSETFROM:+0100
TZOFFSETTO:+0200
TZNAME:Europe/Berlin CEST
END:DAYLIGHT
END:VTIMEZONE
BEGIN:VEVENT
UID:2qe2rs08p4tnddg39q9g65spkv@google.com
CATEGORIES:LKG
CREATED:20260204T143036
SUMMARY:EC-Jungschar
LOCATION:Ev. Gemeindehaus Werdohl\, Freiheitstraße 23
URL;VALUE=URI:https://www.lkg-werdohl.de/kalender/Eventdetail/21634969/-/ec-jungschar.htm
 l?tmpl=component
DESCRIPTION: Dieser Event wurde importiert von: https://www.lkg-werdohl.de/kalender/Eve
 ntdetail/21634969/-/ec-jungschar.html?tmpl=component
X-ALT-DESC;FMTTYPE=text/html: <a href="https://www.lkg-werdohl.de/kalender/Eventdetail/21634969/-/ec-jun
 gschar.html?tmpl=component">Dieser Event wurde importiert von: https://www.
 lkg-werdohl.de/kalender/Eventdetail/21634969/-/ec-jungschar.html?tmpl=compo
 nent</a>DTSTAMP:20260423T124328
DTSTART;TZID=Europe/Berlin:20260403T170000
DTEND;TZID=Europe/Berlin:20260403T183000
SEQUENCE:0
TRANSP:OPAQUE
END:VEVENT
END:VCALENDAR