BEGIN:VCALENDAR
VERSION:2.0
PRODID:-//jEvents 2.0 for Joomla//EN
CALSCALE:GREGORIAN
METHOD:PUBLISH
BEGIN:VTIMEZONE
TZID:Europe/Berlin
BEGIN:STANDARD
DTSTART:20251026T020000
RDATE:20260329T030000
TZOFFSETFROM:+0200
TZOFFSETTO:+0100
TZNAME:Europe/Berlin CET
END:STANDARD
BEGIN:STANDARD
DTSTART:20261025T020000
RDATE:20270328T030000
TZOFFSETFROM:+0200
TZOFFSETTO:+0100
TZNAME:Europe/Berlin CET
END:STANDARD
BEGIN:STANDARD
DTSTART:20271031T020000
RDATE:20280326T030000
TZOFFSETFROM:+0200
TZOFFSETTO:+0100
TZNAME:Europe/Berlin CET
END:STANDARD
BEGIN:DAYLIGHT
DTSTART:20250422T193000
RDATE:20251026T020000
TZOFFSETFROM:+0100
TZOFFSETTO:+0200
TZNAME:Europe/Berlin CEST
END:DAYLIGHT
BEGIN:DAYLIGHT
DTSTART:20260329T030000
RDATE:20261025T020000
TZOFFSETFROM:+0100
TZOFFSETTO:+0200
TZNAME:Europe/Berlin CEST
END:DAYLIGHT
BEGIN:DAYLIGHT
DTSTART:20270328T030000
RDATE:20271031T020000
TZOFFSETFROM:+0100
TZOFFSETTO:+0200
TZNAME:Europe/Berlin CEST
END:DAYLIGHT
END:VTIMEZONE
BEGIN:VEVENT
UID:7svomdv5ajhm66e2j4cs84d1s2@google.com
CATEGORIES:LKG
CREATED:20260202T105011
SUMMARY:Hauskreis bei Petra und Olaf Krähahn
URL;VALUE=URI:https://www.lkg-werdohl.de/kalender/Eventdetail/21634893/-/hauskreis-bei-pe
 tra-und-olaf-kraehahn.html?tmpl=component
DESCRIPTION: <a href="https://www.lkg-werdohl.de/kalender/Eventdetail/21634893/-/hauskr
 eis-bei-petra-und-olaf-kraehahn.html?tmpl=component">Dieser Event wurde imp
 ortiert von: https://www.lkg-werdohl.de/kalender/Eventdetail/21634893/-/hau
 skreis-bei-petra-und-olaf-kraehahn.html?tmpl=component</a>DTSTAMP:20260423T130231
DTSTART;TZID=Europe/Berlin:20260423T193000
DTEND;TZID=Europe/Berlin:20260423T213000
SEQUENCE:0
TRANSP:OPAQUE
END:VEVENT
END:VCALENDAR