BEGIN:VCALENDAR
VERSION:2.0
PRODID:-//jEvents 2.0 for Joomla//EN
CALSCALE:GREGORIAN
METHOD:PUBLISH
BEGIN:VTIMEZONE
TZID:Europe/Berlin
BEGIN:STANDARD
DTSTART:20250311T000000
RDATE:20250330T030000
TZOFFSETFROM:+0200
TZOFFSETTO:+0100
TZNAME:Europe/Berlin CET
END:STANDARD
BEGIN:STANDARD
DTSTART:20251026T020000
RDATE:20260329T030000
TZOFFSETFROM:+0200
TZOFFSETTO:+0100
TZNAME:Europe/Berlin CET
END:STANDARD
BEGIN:STANDARD
DTSTART:20261025T020000
RDATE:20270328T030000
TZOFFSETFROM:+0200
TZOFFSETTO:+0100
TZNAME:Europe/Berlin CET
END:STANDARD
BEGIN:STANDARD
DTSTART:20271031T020000
RDATE:20280326T030000
TZOFFSETFROM:+0200
TZOFFSETTO:+0100
TZNAME:Europe/Berlin CET
END:STANDARD
BEGIN:DAYLIGHT
DTSTART:20250330T030000
RDATE:20251026T020000
TZOFFSETFROM:+0100
TZOFFSETTO:+0200
TZNAME:Europe/Berlin CEST
END:DAYLIGHT
BEGIN:DAYLIGHT
DTSTART:20260329T030000
RDATE:20261025T020000
TZOFFSETFROM:+0100
TZOFFSETTO:+0200
TZNAME:Europe/Berlin CEST
END:DAYLIGHT
BEGIN:DAYLIGHT
DTSTART:20270328T030000
RDATE:20271031T020000
TZOFFSETFROM:+0100
TZOFFSETTO:+0200
TZNAME:Europe/Berlin CEST
END:DAYLIGHT
END:VTIMEZONE
BEGIN:VEVENT
UID:34uirmo5rs87i53khtlhuuhmrc@google.com
CATEGORIES:LKG
CREATED:20260202T105011
SUMMARY:True Story Jugendabende
URL;VALUE=URI:https://www.lkg-werdohl.de/kalender/Eventdetail/21634885/-/true-story-jugen
 dabende.html?tmpl=component
DESCRIPTION:Ev. Jugendallianz Werdohl Dieser Event wurde importiert von: https://www.lk
 g-werdohl.de/kalender/Eventdetail/21634885/-/true-story-jugendabende.html?t
 mpl=component
X-ALT-DESC;FMTTYPE=text/html:Ev. Jugendallianz Werdohl <a href="https://www.lkg-werdohl.de/kalender/Even
 tdetail/21634885/-/true-story-jugendabende.html?tmpl=component">Dieser Even
 t wurde importiert von: https://www.lkg-werdohl.de/kalender/Eventdetail/216
 34885/-/true-story-jugendabende.html?tmpl=component</a>DTSTAMP:20260425T101625
DTSTART;TZID=Europe/Berlin;VALUE=DATE:20260312
DTEND;TZID=Europe/Berlin;VALUE=DATE:20260313
SEQUENCE:0
TRANSP:OPAQUE
END:VEVENT
END:VCALENDAR