BEGIN:VCALENDAR
VERSION:2.0
PRODID:-//jEvents 2.0 for Joomla//EN
CALSCALE:GREGORIAN
METHOD:PUBLISH
BEGIN:VTIMEZONE
TZID:Europe/Berlin
BEGIN:STANDARD
DTSTART:20251026T020000
RDATE:20260329T030000
TZOFFSETFROM:+0200
TZOFFSETTO:+0100
TZNAME:Europe/Berlin CET
END:STANDARD
BEGIN:STANDARD
DTSTART:20261025T020000
RDATE:20270328T030000
TZOFFSETFROM:+0200
TZOFFSETTO:+0100
TZNAME:Europe/Berlin CET
END:STANDARD
BEGIN:STANDARD
DTSTART:20271031T020000
RDATE:20280326T030000
TZOFFSETFROM:+0200
TZOFFSETTO:+0100
TZNAME:Europe/Berlin CET
END:STANDARD
BEGIN:DAYLIGHT
DTSTART:20250418T170000
RDATE:20251026T020000
TZOFFSETFROM:+0100
TZOFFSETTO:+0200
TZNAME:Europe/Berlin CEST
END:DAYLIGHT
BEGIN:DAYLIGHT
DTSTART:20260329T030000
RDATE:20261025T020000
TZOFFSETFROM:+0100
TZOFFSETTO:+0200
TZNAME:Europe/Berlin CEST
END:DAYLIGHT
BEGIN:DAYLIGHT
DTSTART:20270328T030000
RDATE:20271031T020000
TZOFFSETFROM:+0100
TZOFFSETTO:+0200
TZNAME:Europe/Berlin CEST
END:DAYLIGHT
END:VTIMEZONE
BEGIN:VEVENT
UID:12143a50d75fqa8nu29b9jokdu@google.com
CATEGORIES:LKG
CREATED:20240113T142432
SUMMARY:Abendgottesdienst
LOCATION:Ev. Gemeindehaus\, Freiheitstraße 23\, 58791 Werdohl-Stadtmitte
URL;VALUE=URI:https://www.lkg-werdohl.de/kalender/Eventdetail/21633986/-/abendgottesdiens
 t.html?tmpl=component
DESCRIPTION:Ganz herzlich laden wir Sonntags generationsübergreifend zu unserem Abendgo
 ttesdienst ein.\nBereits ab 17:00 Uhr besteht die Möglichkeit zum Klönen un
 d Kennenlernen am Stehtisch.\nDer Abendgottesdienst beginnt dann um 17:30 U
 hr.\n\nWährend des Gottesdienstes erleben die Kids in der Kinder-Zeit ihr e
 igenes, kindgemäßes Programm. \n\nAnsprechpartner für ausführliche Informat
 ionen ist: Steffen Cemberecki - Tel. 02392 13905\n Dieser Event wurde impor
 tiert von: https://www.lkg-werdohl.de/kalender/Eventdetail/21633986/-/abend
 gottesdienst.html?tmpl=component
X-ALT-DESC;FMTTYPE=text/html:<span><p><span>Ganz herzlich laden wir Sonntags generationsübergreifend zu 
 unserem Abendgottesdienst ein.</span></p><p><span>Bereits ab 17:00 Uhr best
 eht die Möglichkeit zum Klönen und Kennenlernen am Stehtisch.</span></p><p>
 <span>Der Abendgottesdienst beginnt dann um 17:30 Uhr.<br></span></p><p><sp
 an>Während des Gottesdienstes erleben die Kids in der Kinder-Zeit ihr eigen
 es, kindgemäßes Programm.</span> </p><p></p><p><span>Ansprechpartner für au
 sführliche Informationen ist</span><span>: Steffen </span><span>Cemberecki 
 </span><span>- Tel.</span><span> 02392 13905</span></p></span> <a href="htt
 ps://www.lkg-werdohl.de/kalender/Eventdetail/21633986/-/abendgottesdienst.h
 tml?tmpl=component">Dieser Event wurde importiert von: https://www.lkg-werd
 ohl.de/kalender/Eventdetail/21633986/-/abendgottesdienst.html?tmpl=componen
 t</a>DTSTAMP:20260423T124318
DTSTART;TZID=Europe/Berlin:20260419T170000
DTEND;TZID=Europe/Berlin:20260419T183000
SEQUENCE:0
TRANSP:OPAQUE
END:VEVENT
END:VCALENDAR