BEGIN:VCALENDAR
VERSION:2.0
PRODID:-//jEvents 2.0 for Joomla//EN
CALSCALE:GREGORIAN
METHOD:PUBLISH
BEGIN:VTIMEZONE
TZID:Europe/Berlin
BEGIN:STANDARD
DTSTART:20241224T000000
RDATE:20250330T030000
TZOFFSETFROM:+0200
TZOFFSETTO:+0100
TZNAME:Europe/Berlin CET
END:STANDARD
BEGIN:STANDARD
DTSTART:20251026T020000
RDATE:20260329T030000
TZOFFSETFROM:+0200
TZOFFSETTO:+0100
TZNAME:Europe/Berlin CET
END:STANDARD
BEGIN:STANDARD
DTSTART:20261025T020000
RDATE:20270328T030000
TZOFFSETFROM:+0200
TZOFFSETTO:+0100
TZNAME:Europe/Berlin CET
END:STANDARD
BEGIN:STANDARD
DTSTART:20271031T020000
RDATE:20280326T030000
TZOFFSETFROM:+0200
TZOFFSETTO:+0100
TZNAME:Europe/Berlin CET
END:STANDARD
BEGIN:DAYLIGHT
DTSTART:20250330T030000
RDATE:20251026T020000
TZOFFSETFROM:+0100
TZOFFSETTO:+0200
TZNAME:Europe/Berlin CEST
END:DAYLIGHT
BEGIN:DAYLIGHT
DTSTART:20260329T030000
RDATE:20261025T020000
TZOFFSETFROM:+0100
TZOFFSETTO:+0200
TZNAME:Europe/Berlin CEST
END:DAYLIGHT
BEGIN:DAYLIGHT
DTSTART:20270328T030000
RDATE:20271031T020000
TZOFFSETFROM:+0100
TZOFFSETTO:+0200
TZNAME:Europe/Berlin CEST
END:DAYLIGHT
END:VTIMEZONE
BEGIN:VEVENT
UID:3tlgd690bk66bn6i3iokb8e1hk@google.com
CATEGORIES:LKG
CREATED:20190809T134221
SUMMARY:1. Weihnachtstag
LOCATION:Ev. Gemeindehaus Stadtmitte\, Freiheitstrasse 23 \, Werdohl
URL;VALUE=URI:https://www.lkg-werdohl.de/kalender/Eventdetail/21633474/-/1-weihnachtstag.
 html?tmpl=component
DESCRIPTION: Dieser Event wurde importiert von: https://www.lkg-werdohl.de/kalender/Eve
 ntdetail/21633474/-/1-weihnachtstag.html?tmpl=component
X-ALT-DESC;FMTTYPE=text/html: <a href="https://www.lkg-werdohl.de/kalender/Eventdetail/21633474/-/1-weih
 nachtstag.html?tmpl=component">Dieser Event wurde importiert von: https://w
 ww.lkg-werdohl.de/kalender/Eventdetail/21633474/-/1-weihnachtstag.html?tmpl
 =component</a>DTSTAMP:20260426T040149
DTSTART;TZID=Europe/Berlin;VALUE=DATE:20251225
DTEND;TZID=Europe/Berlin;VALUE=DATE:20251226
SEQUENCE:0
TRANSP:OPAQUE
END:VEVENT
END:VCALENDAR