BEGIN:VCALENDAR
VERSION:2.0
PRODID:-//jEvents 2.0 for Joomla//EN
CALSCALE:GREGORIAN
METHOD:PUBLISH
BEGIN:VTIMEZONE
TZID:Europe/Berlin
BEGIN:STANDARD
DTSTART:20251026T020000
RDATE:20260329T030000
TZOFFSETFROM:+0200
TZOFFSETTO:+0100
TZNAME:Europe/Berlin CET
END:STANDARD
BEGIN:STANDARD
DTSTART:20261025T020000
RDATE:20270328T030000
TZOFFSETFROM:+0200
TZOFFSETTO:+0100
TZNAME:Europe/Berlin CET
END:STANDARD
BEGIN:STANDARD
DTSTART:20271031T020000
RDATE:20280326T030000
TZOFFSETFROM:+0200
TZOFFSETTO:+0100
TZNAME:Europe/Berlin CET
END:STANDARD
BEGIN:DAYLIGHT
DTSTART:20250403T000000
RDATE:20251026T020000
TZOFFSETFROM:+0100
TZOFFSETTO:+0200
TZNAME:Europe/Berlin CEST
END:DAYLIGHT
BEGIN:DAYLIGHT
DTSTART:20260329T030000
RDATE:20261025T020000
TZOFFSETFROM:+0100
TZOFFSETTO:+0200
TZNAME:Europe/Berlin CEST
END:DAYLIGHT
BEGIN:DAYLIGHT
DTSTART:20270328T030000
RDATE:20271031T020000
TZOFFSETFROM:+0100
TZOFFSETTO:+0200
TZNAME:Europe/Berlin CEST
END:DAYLIGHT
END:VTIMEZONE
BEGIN:VEVENT
UID:20tsl3bjimf7e7vjur9g6idjc9@google.com
CATEGORIES:LKG
CREATED:20260202T105013
SUMMARY:Karsamstag
URL;VALUE=URI:https://www.lkg-werdohl.de/kalender/Eventdetail/21634953/-/karsamstag.html?
 tmpl=component
DESCRIPTION: <a href="https://www.lkg-werdohl.de/kalender/Eventdetail/21634953/-/karsam
 stag.html?tmpl=component">Dieser Event wurde importiert von: https://www.lk
 g-werdohl.de/kalender/Eventdetail/21634953/-/karsamstag.html?tmpl=component
 </a>DTSTAMP:20260423T124844
DTSTART;TZID=Europe/Berlin;VALUE=DATE:20260404
DTEND;TZID=Europe/Berlin;VALUE=DATE:20260405
SEQUENCE:0
TRANSP:OPAQUE
END:VEVENT
END:VCALENDAR