BEGIN:VCALENDAR
VERSION:2.0
PRODID:-//jEvents 2.0 for Joomla//EN
CALSCALE:GREGORIAN
METHOD:PUBLISH
BEGIN:VTIMEZONE
TZID:Europe/Berlin
BEGIN:STANDARD
DTSTART:20250211T190000
RDATE:20250330T030000
TZOFFSETFROM:+0200
TZOFFSETTO:+0100
TZNAME:Europe/Berlin CET
END:STANDARD
BEGIN:STANDARD
DTSTART:20251026T020000
RDATE:20260329T030000
TZOFFSETFROM:+0200
TZOFFSETTO:+0100
TZNAME:Europe/Berlin CET
END:STANDARD
BEGIN:STANDARD
DTSTART:20261025T020000
RDATE:20270328T030000
TZOFFSETFROM:+0200
TZOFFSETTO:+0100
TZNAME:Europe/Berlin CET
END:STANDARD
BEGIN:STANDARD
DTSTART:20271031T020000
RDATE:20280326T030000
TZOFFSETFROM:+0200
TZOFFSETTO:+0100
TZNAME:Europe/Berlin CET
END:STANDARD
BEGIN:DAYLIGHT
DTSTART:20250330T030000
RDATE:20251026T020000
TZOFFSETFROM:+0100
TZOFFSETTO:+0200
TZNAME:Europe/Berlin CEST
END:DAYLIGHT
BEGIN:DAYLIGHT
DTSTART:20260329T030000
RDATE:20261025T020000
TZOFFSETFROM:+0100
TZOFFSETTO:+0200
TZNAME:Europe/Berlin CEST
END:DAYLIGHT
BEGIN:DAYLIGHT
DTSTART:20270328T030000
RDATE:20271031T020000
TZOFFSETFROM:+0100
TZOFFSETTO:+0200
TZNAME:Europe/Berlin CEST
END:DAYLIGHT
END:VTIMEZONE
BEGIN:VEVENT
UID:2vt883koimoa4rb5j3caj01i17@google.com
CATEGORIES:LKG
CREATED:19700101T010000
SUMMARY:Hauskreis bei Silvia Hauswith
URL;VALUE=URI:https://www.lkg-werdohl.de/kalender/Eventdetail/21634557/-/hauskreis-bei-si
 lvia-hauswith.html?tmpl=component
DESCRIPTION: Dieser Event wurde importiert von: https://www.lkg-werdohl.de/kalender/Eve
 ntdetail/21634557/-/hauskreis-bei-silvia-hauswith.html?tmpl=component
X-ALT-DESC;FMTTYPE=text/html: <a href="https://www.lkg-werdohl.de/kalender/Eventdetail/21634557/-/hauskr
 eis-bei-silvia-hauswith.html?tmpl=component">Dieser Event wurde importiert 
 von: https://www.lkg-werdohl.de/kalender/Eventdetail/21634557/-/hauskreis-b
 ei-silvia-hauswith.html?tmpl=component</a>DTSTAMP:20260423T125330
DTSTART;TZID=Europe/Berlin:20260212T190000
DTEND;TZID=Europe/Berlin:20260212T210000
SEQUENCE:0
RRULE:FREQ=WEEKLY;UNTIL=20271213T000000Z;INTERVAL=2;BYDAY=TH
TRANSP:OPAQUE
END:VEVENT
END:VCALENDAR