BEGIN:VCALENDAR
VERSION:2.0
PRODID:-//jEvents 2.0 for Joomla//EN
CALSCALE:GREGORIAN
METHOD:PUBLISH
BEGIN:VTIMEZONE
TZID:Europe/Berlin
BEGIN:STANDARD
DTSTART:20220110T080000
RDATE:20220327T030000
TZOFFSETFROM:+0200
TZOFFSETTO:+0100
TZNAME:Europe/Berlin CET
END:STANDARD
BEGIN:STANDARD
DTSTART:20221030T020000
RDATE:20230326T030000
TZOFFSETFROM:+0200
TZOFFSETTO:+0100
TZNAME:Europe/Berlin CET
END:STANDARD
BEGIN:STANDARD
DTSTART:20231029T020000
RDATE:20240331T030000
TZOFFSETFROM:+0200
TZOFFSETTO:+0100
TZNAME:Europe/Berlin CET
END:STANDARD
BEGIN:STANDARD
DTSTART:20241027T020000
RDATE:20250330T030000
TZOFFSETFROM:+0200
TZOFFSETTO:+0100
TZNAME:Europe/Berlin CET
END:STANDARD
BEGIN:STANDARD
DTSTART:20251026T020000
RDATE:20260329T030000
TZOFFSETFROM:+0200
TZOFFSETTO:+0100
TZNAME:Europe/Berlin CET
END:STANDARD
BEGIN:STANDARD
DTSTART:20261025T020000
RDATE:20270328T030000
TZOFFSETFROM:+0200
TZOFFSETTO:+0100
TZNAME:Europe/Berlin CET
END:STANDARD
BEGIN:STANDARD
DTSTART:20271031T020000
RDATE:20280326T030000
TZOFFSETFROM:+0200
TZOFFSETTO:+0100
TZNAME:Europe/Berlin CET
END:STANDARD
BEGIN:DAYLIGHT
DTSTART:20220327T030000
RDATE:20221030T020000
TZOFFSETFROM:+0100
TZOFFSETTO:+0200
TZNAME:Europe/Berlin CEST
END:DAYLIGHT
BEGIN:DAYLIGHT
DTSTART:20230326T030000
RDATE:20231029T020000
TZOFFSETFROM:+0100
TZOFFSETTO:+0200
TZNAME:Europe/Berlin CEST
END:DAYLIGHT
BEGIN:DAYLIGHT
DTSTART:20240331T030000
RDATE:20241027T020000
TZOFFSETFROM:+0100
TZOFFSETTO:+0200
TZNAME:Europe/Berlin CEST
END:DAYLIGHT
BEGIN:DAYLIGHT
DTSTART:20250330T030000
RDATE:20251026T020000
TZOFFSETFROM:+0100
TZOFFSETTO:+0200
TZNAME:Europe/Berlin CEST
END:DAYLIGHT
BEGIN:DAYLIGHT
DTSTART:20260329T030000
RDATE:20261025T020000
TZOFFSETFROM:+0100
TZOFFSETTO:+0200
TZNAME:Europe/Berlin CEST
END:DAYLIGHT
BEGIN:DAYLIGHT
DTSTART:20270328T030000
RDATE:20271031T020000
TZOFFSETFROM:+0100
TZOFFSETTO:+0200
TZNAME:Europe/Berlin CEST
END:DAYLIGHT
END:VTIMEZONE
BEGIN:VEVENT
UID:edjq90pf1js3ktfaeh5cl73bv3@google.com
CATEGORIES:LKG
CREATED:19700101T010000
SUMMARY:Gebetstreff
URL;VALUE=URI:https://www.lkg-werdohl.de/kalender/Eventdetail/7426063/-/gebetstreff.html?
 tmpl=component
DESCRIPTION:<ul><li><span><em><span><span>Denn das Gebet eines Menschen, der nach Gotte
 s Willen lebt, hat große Kraft.</span></span></em></span></li></ul><p><span
 ><span><span>Die <a href="https://www.lkg-werdohl.de/index.php/netzwerk/die
 -bibel.html">Bibel</a>, Jakobus 5, Vers 16b</span></span></span></p><p><spa
 n> </span></p><p><span><span><span>Über Mitbeter oder den Beginn weiterer G
 ebetszellen freuen wir uns sehr.</span></span></span></p> <a href="https://
 www.lkg-werdohl.de/kalender/Eventdetail/7426063/-/gebetstreff.html?tmpl=com
 ponent">Dieser Event wurde importiert von: https://www.lkg-werdohl.de/kalen
 der/Eventdetail/7426063/-/gebetstreff.html?tmpl=component</a>DTSTAMP:20260423T125436
DTSTART;TZID=Europe/Berlin:20230111T080000
DTEND;TZID=Europe/Berlin:20230111T090000
SEQUENCE:1
RRULE:FREQ=WEEKLY;UNTIL=20271213T000000Z;INTERVAL=2;BYDAY=WE
TRANSP:OPAQUE
END:VEVENT
END:VCALENDAR