BEGIN:VCALENDAR
VERSION:2.0
PRODID:-//jEvents 2.0 for Joomla//EN
CALSCALE:GREGORIAN
METHOD:PUBLISH
BEGIN:VTIMEZONE
TZID:Europe/Berlin
BEGIN:STANDARD
DTSTART:20230111T193000
RDATE:20230326T030000
TZOFFSETFROM:+0200
TZOFFSETTO:+0100
TZNAME:Europe/Berlin CET
END:STANDARD
BEGIN:STANDARD
DTSTART:20231029T020000
RDATE:20240331T030000
TZOFFSETFROM:+0200
TZOFFSETTO:+0100
TZNAME:Europe/Berlin CET
END:STANDARD
BEGIN:STANDARD
DTSTART:20241027T020000
RDATE:20250330T030000
TZOFFSETFROM:+0200
TZOFFSETTO:+0100
TZNAME:Europe/Berlin CET
END:STANDARD
BEGIN:STANDARD
DTSTART:20251026T020000
RDATE:20260329T030000
TZOFFSETFROM:+0200
TZOFFSETTO:+0100
TZNAME:Europe/Berlin CET
END:STANDARD
BEGIN:STANDARD
DTSTART:20261025T020000
RDATE:20270328T030000
TZOFFSETFROM:+0200
TZOFFSETTO:+0100
TZNAME:Europe/Berlin CET
END:STANDARD
BEGIN:STANDARD
DTSTART:20271031T020000
RDATE:20280326T030000
TZOFFSETFROM:+0200
TZOFFSETTO:+0100
TZNAME:Europe/Berlin CET
END:STANDARD
BEGIN:DAYLIGHT
DTSTART:20230326T030000
RDATE:20231029T020000
TZOFFSETFROM:+0100
TZOFFSETTO:+0200
TZNAME:Europe/Berlin CEST
END:DAYLIGHT
BEGIN:DAYLIGHT
DTSTART:20240331T030000
RDATE:20241027T020000
TZOFFSETFROM:+0100
TZOFFSETTO:+0200
TZNAME:Europe/Berlin CEST
END:DAYLIGHT
BEGIN:DAYLIGHT
DTSTART:20250330T030000
RDATE:20251026T020000
TZOFFSETFROM:+0100
TZOFFSETTO:+0200
TZNAME:Europe/Berlin CEST
END:DAYLIGHT
BEGIN:DAYLIGHT
DTSTART:20260329T030000
RDATE:20261025T020000
TZOFFSETFROM:+0100
TZOFFSETTO:+0200
TZNAME:Europe/Berlin CEST
END:DAYLIGHT
BEGIN:DAYLIGHT
DTSTART:20270328T030000
RDATE:20271031T020000
TZOFFSETFROM:+0100
TZOFFSETTO:+0200
TZNAME:Europe/Berlin CEST
END:DAYLIGHT
END:VTIMEZONE
BEGIN:VEVENT
UID:7d4kie6lhrped3pppe56ii4sik_R20240112T183000@google.com
CATEGORIES:LKG
CREATED:19700101T010000
SUMMARY:EC-Jugendcafé - Zeit für dich und deine Freunde
LOCATION:Ev. Gemeindehaus\, Werdohl-Stadtmitte\, Freiheitstraße 23
URL;VALUE=URI:https://www.lkg-werdohl.de/kalender/Eventdetail/21630155/-/ec-jugendcafe-ze
 it-fuer-dich-und-deine-freunde.html?tmpl=component
DESCRIPTION:WANN: Jeden zweiten Freitag im Monat ab 19:30 Uhr\nFÜR WEN: Jugendliche &am
 p; junge Erwachsene ab 13 Jahren\nWAS DICH ERWARTET: Kicker - Billard - Sna
 cks - Getränke - Gute Gespräche - tolle Menschen Dieser Event wurde importi
 ert von: https://www.lkg-werdohl.de/kalender/Eventdetail/21630155/-/ec-juge
 ndcafe-zeit-fuer-dich-und-deine-freunde.html?tmpl=component
X-ALT-DESC;FMTTYPE=text/html:WANN: <span>Jeden zweiten Freitag im Monat ab 19:30 Uhr</span><br>FÜR WEN: 
 Jugendliche &amp; junge Erwachsene ab 13 Jahren<br>WAS DICH ERWARTET: Kicke
 r - Billard - Snacks - Getränke - Gute Gespräche - tolle Menschen <a href="
 https://www.lkg-werdohl.de/kalender/Eventdetail/21630155/-/ec-jugendcafe-ze
 it-fuer-dich-und-deine-freunde.html?tmpl=component">Dieser Event wurde impo
 rtiert von: https://www.lkg-werdohl.de/kalender/Eventdetail/21630155/-/ec-j
 ugendcafe-zeit-fuer-dich-und-deine-freunde.html?tmpl=component</a>DTSTAMP:20260426T040539
DTSTART;TZID=Europe/Berlin:20240112T193000
DTEND;TZID=Europe/Berlin:20240112T213000
SEQUENCE:0
RRULE:FREQ=MONTHLY;UNTIL=20260109T000000Z;INTERVAL=1;BYDAY=2FR
TRANSP:OPAQUE
END:VEVENT
END:VCALENDAR